BEGIN:VCALENDAR
VERSION:2.0
PRODID:-//月刊ハーモニー - ECPv5.5.0//NONSGML v1.0//EN
CALSCALE:GREGORIAN
METHOD:PUBLISH
X-WR-CALNAME:月刊ハーモニー
X-ORIGINAL-URL:https://harmony.niibori.com
X-WR-CALDESC:月刊ハーモニー のイベント
BEGIN:VTIMEZONE
TZID:Asia/Tokyo
BEGIN:STANDARD
TZOFFSETFROM:+0900
TZOFFSETTO:+0900
TZNAME:JST
DTSTART:20240101T000000
END:STANDARD
END:VTIMEZONE
BEGIN:VEVENT
DTSTART;TZID=Asia/Tokyo:20240505T130000
DTEND;TZID=Asia/Tokyo:20240505T170000
DTSTAMP:20260426T080522
CREATED:20240321T030636Z
LAST-MODIFIED:20240321T030636Z
UID:1250-1714914000-1714928400@harmony.niibori.com
SUMMARY:｢マスターズ･ギターフェスティバル2024｣参加者募集
DESCRIPTION:　クラシックギターの美しい音を愛してやまない人生の達人＝マスターズ(45歳以上の方)の為の｢マスターズ･ギターコンテスト2024｣(９月15日開催予定)に向けて行なわれる｢マスターズ･ギターフェスティバル2024｣が開催されます。演奏後、審査員の先生方よりアドバイスが頂けます。 \n開催日時　５月５日(日)13:00開演 \n会場　藤沢の国際新堀芸術学院本館３Ｆ シュトラウスホール \n【参加資格】　コンテストの行なわれる本年(2024年)9月15が満45歳以上であること。演奏曲目は８分以内の自由曲1曲。クラシックギターによる独奏または重奏で、ジャンル不問です。独奏は1曲、重奏は重複出演もできます。 \n【参加方法】現地にて生演奏 \n【お申込み締切り】４月７日(日)必着 \nマスターズギターフェスティバル開催事務局(国際新堀芸術学院内) \nTEL.0466-23-8338　FAX.0466-23-9337
URL:https://harmony.niibori.com/event/%ef%bd%a2%e3%83%9e%e3%82%b9%e3%82%bf%e3%83%bc%e3%82%ba%ef%bd%a5%e3%82%ae%e3%82%bf%e3%83%bc%e3%83%95%e3%82%a7%e3%82%b9%e3%83%86%e3%82%a3%e3%83%90%e3%83%ab2024%ef%bd%a3%e5%8f%82%e5%8a%a0%e8%80%85/
LOCATION:新堀学園シュトラウスホール\, 藤沢市藤沢143-13　〒251-0052\, 藤沢市\, 神奈川県\, 251-0052\, 日本
ATTACH;FMTTYPE=image/jpeg:https://harmony.niibori.com/wp-content/uploads/2024/03/小マスターズギター-フェス参加要項2024.jpg
ORGANIZER;CN="%E3%82%B3%E3%83%B3%E3%83%86%E3%82%B9%E3%83%88%E9%96%8B%E5%82%AC%E4%BA%8B%E5%8B%99%E5%B1%80":MAILTO:nisiogikubo@niibori.com
END:VEVENT
END:VCALENDAR